Workbook

Sheet Inicio
I2: Introducción La medición de madurez se realiza a través de los cuatro pilares de nuestro modelo de Capacidades de Open Finance. Esta evaluación consta de una serie de preguntas para cada categoría de los pilares y componentes del modelo. En cada una de las hojas del archivo de Excel encontrarán las preguntas para los pilares de Estrategia y Modelo de Negocio, Modelo Operativo, Capacidades Tecnológicas & Legal y de Cumplimiento que deberán ser respondidas para la evaluación de madurez. Cada pregunta tiene respuestas definidas a las cuales se les asigna un valor en automático dependiendo de la opción seleccionada en la columna 'Evaluación' El campo de Comentarios es opcional en caso de que se desee hacer alguna precisión a la respuesta. Cada componente del modelo (cuatro componentes) está dividido en tres o cuatro categorías. Dichas categorías son subdivisiones para poder realizar un análisis y exploración con más detalle. Sobre las preguntas de esta sección Las respuestas de esta sección son abiertas, no tienen un número límite de palabras pero se sugiere ser concreto. | J2: Introducción | N2: Respuestas
K3: 1 | L3: Nombre de la institución:
K5: 2 | L5: Mercado geográfico principal de la institución (países, ciudades, municipios o regiones):
K7: 3 | L7: Número de empleados totales al final del último año fiscal:
K9: 4 | L9: Principal plataforma de comunicación interna (Microsoft Teams, Google Meet, etc.)
K11: 5 | L11: ¿Cómo se conforma el equipo de tecnología? (áreas y número de empleados)
K13: 6 | L13: ¿Cómo se conforma el equipo de desarrollo de producto? (áreas y número de empleados)
K15: 7 | L15: Para su participación en el programa, ¿cuáles son las fuentes de datos alternativos que quisiera consultar? (ej. datos de pagos, facturas, billeteras, plataformas de la gig economy -Rappi-, etc).
K17: 8 | L17: Por favor describir porque considera de interes consumir información del proveedor o proveedores mencionados en la pregunta 7
K19: 9 | L19: ¿Han considerado trabajar con algún proveedor de datos alternativos/abiertos o con alguna plataforma que proporcione servicios de scoring/evaluación de riesgo basado en datos alternativos? Si la respuesta es afirmativa, mencionar con quién o quiénes
K21: 10 | L21: ¿Se han tenido conversaciones respecto a los modelos de Finanzas Abiertas y las oportunidades que estos modelos representan? En caso de que la respuesta sea afirmativa, por favor describir las conclusiones.
K23: 11 | L23: ¿Cuáles son las barreras principales que identifican para que su institución pueda desplegar iniciativas basadas en modelos de Finanzas Abiertas?
K26: 11 | L26: ¿Cuáles son los tres (3) objetivos principales que quisiera lograr después de participar en el programa? | M26: 1
M27: 2
M28: 3

Sheet Estrategia y Modelo de Negocio
A1: Diagnóstico de Madurez APIs y ecosistemas de finanzas abiertas
A4: Componente Framework | B4: Categoría | C4: Requerimiento | D4: Evaluación | E4: Comentarios | F4: Métricas
A5: Estrategia y Modelo de Negocio | B5: Estrategia | C5: ¿La entidad cuenta con una estrategia de APIs? Por estrategia se entiende un plan de trabajo que identifique qué productos de la entidad se pueden diseñar y distribuir a través de APIs asignando responsables y recursos para lograrlo | F5: 0: No se tiene estrategia definida de APIs 1: No se tiene estrategia definida, pero se están realizando pilotos para exponer productos basados en API o consumir datos de terceros 2: Se tiene una estrategia inicial basada en la distribución de productos APIs con algunos TPPs 3: Se ha definido una estrategia de APIs que, además de la distribución, considera modelos BaaS o CaaS
A6: Estrategia y Modelo de Negocio | B6: Estrategia | C6: ¿La alta gerencia (dirección general, reportes directos de dirección general) está alineada y apoya la estrategia de APIs? | F6: 0: No se tiene estrategia definida de APIs 1: La estrategia de APIs ha surgido como iniciativa de tecnología/producto pero la alta gerencia no tiene un rol de sponsor 2: La alta gerencia apoya la estrategia de APIs
A7: Estrategia y Modelo de Negocio | B7: Estrategia | C7: ¿La organización ha destinado un presupuesto dedicado para el desarrollo de la estrategia de APIs? | F7: 0: No se tiene presupuesto asignado 1: El presupuesto asignado proviene de la dirección de innovación/producto/tecnología pero compite con otras iniciativas 2: Se tiene presupuesto asignado
A8: Estrategia y Modelo de Negocio | B8: Estrategia | C8: ¿Tengo conocimiento de la oferta y demanda que existe en el mercado de los productos API? | F8: 0: No 1: Si tengo conocimiento porque tengo información de reportes de mercado 2: Si tengo conocimiento porque realizo de manera propia estudios de mercado (oferta) y análisis de la competencia (demanda)
A9: Estrategia y Modelo de Negocio | B9: Estrategia | C9: ¿Existe un área o equipo de trabajo dedicado a desarrollar las iniciativas de Open Finance? | F9: 0: No existe un equipo de trabajo 1: Se cuenta con un equipo de trabajo integrado por champions o responsables por area de diferentes áreas que asignan parte de su tiempo a la atención de las iniciativas de APIs 2: Sí existe un equipo de trabajo definido para las iniciativas de APIs
A10: Estrategia y Modelo de Negocio | B10: Estrategia | C10: ¿Se tienen identificados a posibles aliados o TPPs (Third Party Provider o proveedor de datos) para la distribución de las APIs en una primera fase? | F10: 0: No se tienen identificados 1: Se han tenido acercamientos con posibles aliados, pero aún sin concretar algo en particular 2: Se tienen identificados a posibles aliados y están en proceso de integración a la entidad 3: Ya se trabaja con aliados
A11: Estrategia y Modelo de Negocio | B11: Estrategia | C11: ¿La organización tiene identificadas los KPIs o métricas respecto al uso de las APIs? | F11: 0: No se tienen KPIs o métricas definidas 1: Se están definiendo algunas métricas 2: Ya se han implementado algunas métricas 3: Ya se han implementado métricas y se han desarrollado tableros automatizados/semiautomatizados para darles seguimiento
A12: Estrategia y Modelo de Negocio | B12: Estrategia | C12: ¿Se cuenta con una estrategia en medios de comunicación para posicionar a la entidad como referencia en los ecosistemas de APIs? | F12: 0: No se tiene estrategia de comunicación 1: La comunicación se realiza de manera interna 2: Se tiene una estrategia de comunicación tanto interna como externa
A13: Estrategia y Modelo de Negocio | B13: Producto | C13: ¿Se tienen identificadas las fuentes de datos que se pueden publicar y compartir a terceros a través de APIs? | F13: 0: No se tienen identificadas 1: Se tienen identificadas a alto nivel 2: Se tienen identificadas y se entienden los retos para apificar la información 3: Se tienen identificadas y existe un mapa de ruta para la apificación de los datos
A14: Estrategia y Modelo de Negocio | B14: Producto | C14: ¿Se tienen identificadas los posibles casos de uso que se pueden implementar a través de APIs? Estos casos se refieren a la estrategia interna que se tenga definida. | F14: 0: No se tienen identificados 1: Se tienen identificados a alto nivel 2: Se tienen identificados pero no hay una prioridad o guía para implementarlos 3: Se tienen identificados y existe un mapa de ruta para su implementación
A15: Estrategia y Modelo de Negocio | B15: Producto | C15: ¿Tiene la capacidad para desarrollar pilotos o pruebas de concepto sobre los productos API que quiero ofrecer? | F15: 0: No tengo la capacidad, no cuento con infraestructura de APIs y/o ambientes de prueba 1: Actualmente está en proceso de implementación capacidades de infraestructura de APIs y/o ambientes de prueba 2: Cuento con infraestructura de APIs y/o ambientes de prueba
A16: Estrategia y Modelo de Negocio | B16: Producto | C16: ¿La organización cuenta con un Portal de Desarrolladores? | F16: 0: No se tiene portal de desarrolladores 1: Se tiene una página informativa sobre las APIs 2: Se tiene un portal de desarrolladores el cual permite probar las APIs que se ofrecen 3: Se tiene un portal de desarrolladores el cual permite probar las APIs que se ofrecen además de funcionalidades que permiten un modelo de auto-servicio para el desarrollador
... A25: Estrategia y Modelo de Negocio | B25: Monetización | C25: Las APIs que se tienen distribuidas con los TPPs, ¿se están monetizando? | F25: 0: No se tienen APIs distribuidas con TPPs 1: Se tienen APIs distribuidas con TPPs, pero no se están monetizando 2: Se tienen APIs distribuidas con TPPs, pero aún es muy temprano para definir si el modelo de monetización es el adecuado 3: Se están monetizando las APIs

Sheet Modelo Operativo
A4: Componente Framework | B4: Categoría | C4: Requerimiento | D4: Evaluación | E4: Comentarios | F4: Métricas
A5: Modelo Operativo | B5: Gobernanza y Talento | C5: ¿Existen comités directivos y/o gerenciales que autorizan los casos de uso a ser implementado por medio de APIs a nivel de negocio y a nivel técnico en su organización? | F5: 0: No existen comités o grupos de trabajo con la facultad para decidir sobre los casos de uso de API a implementar 1: Se están definiendo comité(s) o grupos de trabajo 2: Existen comité(s) o grupos de trabajo
A6: Modelo Operativo | B6: Gobernanza y Talento | C6: ¿Las áreas funcionales como riesgos, cumplimiento, jurídico, seguridad de la información, contabilidad, entre otras, participan con las áreas técnicas en la definición y diseño de las APIs? | F6: 0: No participan porque no existe actualmente alguna iniciativa relacionada con APIs 1: No existe una coordinación de diferentes áreas; las iniciativas de APIs están relacionadas con el área de tecnología 2: Existe una participación coordinada de las diferentes áreas para el desarrollo de APIs
A7: Modelo Operativo | B7: Gobernanza y Talento | C7: ¿Los equipos técnicos tienen habilidades que les permiten entender y desarrollar APIs? | F7: 0: No existen equipos técnicos actualmente que desarrollen APIs 1: Los equipos técnicos tienen experiencia en el desarrollo de APIs internas y microservicios 2: Los equipos técnicos cuentan con habilidades en el desarrollo de APIs internas y microservicios, y actualmente se están desarrollando capacidades para la exposición de APIs a terceros 3: Existe una colaboración de equipos internos con compañías especializadas para el despliegue de la estrategia de APIs 4: Los equipos técnicos cuentan con las capacidades necesarias para el despliegue de la estrategia de APIs
A8: Modelo Operativo | B8: Gobernanza y Talento | C8: ¿Se tienen asignados roles específicos para el desarrollo de los casos de uso (por ejemplo Product Owners, API architect, Developer Relations Manager, API Officer)? | F8: 0: No existen roles asignados porque no se cuenta con iniciativas de APIs 1: Los roles asignados se cubren con el equipo que trabaja en la implementación de las APIs, sin que exista una especialización en sus funciones 2: Se están reclutando algunas posiciones para cubrir los roles que la organización considera necesarios 3: Se han asignado roles específicos
A9: Modelo Operativo | B9: Gobernanza y Talento | C9: ¿Existe un gobierno de datos que facilite la organización de los catálogos de datos para ser utilizados en el diseño de las APIs? | F9: 0: No existe un gobierno de datos 1: La organización está identificando que necesita para la implementación de un gobierno de datos 2: El gobierno de datos se encuentra actualmente en una etapa de definición e implementación 3: Existe un gobierno de datos
A10: Modelo Operativo | B10: Gestión del Riesgo | C10: El marco de gestión de riesgo operacional y tecnológico, ¿se encuentra actualizado con los modelos de Open APIs? | F10: 0: No se ha actualizado porque no existen APIs implementadas 1: Existen APIs implementadas pero aún falta actualizar el marco de gestión de riesgo operacional y tecnológico 2. La actualización del marco de gestión de riesgo está en proceso 3. El marco de gestión de riesgo se ha actualizado
A11: Modelo Operativo | B11: Gestión del Riesgo | C11: Para la gestión del riesgo operacional y tecnológico, ¿se siguen mejores prácticas? (Una referencia a mejores prácticas se puede identificar en los lineamientos técnicos de la circular 004) | F11: 0: No, porque no existen APIs implementadas 1: Se tienen APIs implementadas, se siguen los controles de riesgo operacional y tecnológico basados en el expertise del equipo 2: Los controles de riesgo operacional y tecnológico están basados en mejores prácticas
A12: Modelo Operativo | B12: Gestión del Riesgo | C12: ¿Se tiene un plan de evaluación de riesgo respecto a la infraestructura de las APIs? | F12: 0: No porque no se tienen APIs implementadas 1: No se tiene un plan específico para la evaluación de riesgos de las APIs 2: El plan de evaluación de riesgos está en desarrollo 3: Si se tiene un plan de evaluación de riesgos de las APIs
A13: Modelo Operativo | B13: Portal de Desarrolladores | C13: ¿Esta identificado el journey del desarrollador? | F13: 0: No se tiene identificado 1: El diseño del journey del desarrollador está en proceso 2: Si se tiene definido pero aún no ha sido implementado 3: Se tiene definido e implementado
A14: Modelo Operativo | B14: Portal de Desarrolladores | C14: El Portal de Desarrolladores, ¿proporciona diferentes funcionalidades que permiten un auto-servicio de los TPPs, como el auto-registro en el portal, la obtención de las llaves de prueba para las APIs disponibles, recursos de documentación, proceso de onboarding para paso a producción, facturación, entre otras? | F14: 0: No existe o no se tiene portal de desarrolladores 1: El portal de desarrolladores cuenta con funcionalidades básicas que es el registro de usuarios y obtención de llaves 2: Se está trabajando en un plan para agregar funcionalidades al portal de desarrolladores 3: Se cuenta con diferentes funcionaliades en el portal de desarrolladores para el servicio y atención de los TPPs
A15: Modelo Operativo | B15: Portal de Desarrolladores | C15: ¿Se cuenta con una estrategia de comunicación y difusión del Portal de Desarrolladores? | F15: 0: No se cuenta con una estrategia de comunicación 1: La estrategia de comunicación del portal de desarrolladores está en proceso de definición 2: Se tiene una estrategia de comunicación 3: Se tiene una estrategia de comunicación la cual se va actualizando de manera periódica

Sheet Resultados
A1: Pilar | B1: Resultado | C1: Ajustado | G1: Estrategia | H1: =AVERAGE(C2:C17) -> 0
A2: {='Estrategia y Modelo de Negocio'!A5:A17} -> Estrategia y Modelo de Negocio | B2: {='Estrategia y Modelo de Negocio'!D5:D17} -> 0 | C2: =IF(B2=0, 0, IF(B2=1,1.3, IF(B2=2, 2.6, IF(B2=3, 4, "")))) -> 0 | G2: Gobernanza | H2: =AVERAGE(C19:C31) -> 0
A3: Estrategia y Modelo de Negocio | B3: 0 | C3: =IF(B3=0, 0, IF(B3=1,2, IF(B3=2, 4, ""))) -> 0 | G3: Capacidades Tecnológicas | H3: =AVERAGE(C33:C51) -> #VALUE!
A4: Estrategia y Modelo de Negocio | B4: 0 | C4: =IF(B4=0, 0, IF(B4=1,2, IF(B4=2, 4, ""))) -> 0 | G4: Regulación y Cumplimiento | H4: =AVERAGE(C52:C61) -> 0
A5: Estrategia y Modelo de Negocio | B5: 0 | C5: =IF(B5=0, 0, IF(B5=1,2, IF(B5=2, 4, ""))) -> 0
A6: Estrategia y Modelo de Negocio | B6: 0 | C6: =IF(B6=0, 0, IF(B6=1,2, IF(B6=2, 4, ""))) -> 0
A7: Estrategia y Modelo de Negocio | B7: 0 | C7: =IF(B7=0, 0, IF(B7=1,1.3, IF(B7=2, 2.6, IF(B7=3, 4, "")))) -> 0
A8: Estrategia y Modelo de Negocio | B8: 0 | C8: =IF(B8=0, 0, IF(B8=1,1.3, IF(B8=2, 2.6, IF(B8=3, 4, "")))) -> 0
A9: Estrategia y Modelo de Negocio | B9: 0 | C9: =IF(B9=0, 0, IF(B9=1,2, IF(B9=2, 4, ""))) -> 0
A10: Estrategia y Modelo de Negocio | B10: 0 | C10: =IF(B10=0, 0, IF(B10=1,1.3, IF(B10=2, 2.6, IF(B10=3, 4, "")))) -> 0
A11: Estrategia y Modelo de Negocio | B11: 0 | C11: =IF(B11=0, 0, IF(B11=1,2, IF(B11=2, 4, ""))) -> 0
A12: Estrategia y Modelo de Negocio | B12: 0 | C12: =IF(B12=0, 0, IF(B12=1,1.3, IF(B12=2, 2.6, IF(B12=3, 4, "")))) -> 0
A13: Estrategia y Modelo de Negocio | B13: 0 | C13: =IF(B13=0, 0, IF(B13=1,1.3, IF(B13=2, 2.6, IF(B13=3, 4, "")))) -> 0
A14: Estrategia y Modelo de Negocio | B14: 0 | C14: =IF(B14=0, 0, IF(B14=1,1.3, IF(B14=2, 2.6, IF(B14=3, 4, "")))) -> 0
C15: =IF(B15=0, 0, IF(B15=1,2, IF(B15=2, 4, ""))) -> 0
C16: =IF(B16=0, 0, IF(B16=1,1.3, IF(B16=2, 2.6, IF(B16=3, 4, "")))) -> 0
C17: =IF(B17=0, 0, IF(B17=1,2, IF(B17=2, 4, ""))) -> 0
A19: {='Modelo Operativo'!A5:A15} -> Modelo Operativo | B19: {='Modelo Operativo'!D5:D15} -> 0 | C19: =IF(B19=0, 0, IF(B19=1,2, IF(B19=2, 4, ""))) -> 0
A20: Modelo Operativo | B20: 0 | C20: =IF(B20=0, 0, IF(B20=1,2, IF(B20=2, 4, ""))) -> 0
A21: Modelo Operativo | B21: 0 | C21: =B21 -> 0
A22: Modelo Operativo | B22: 0 | C22: =IF(B22=0, 0, IF(B22=1,1.3, IF(B22=2, 2.6, IF(B22=3, 4, "")))) -> 0
A23: Modelo Operativo | B23: 0 | C23: =IF(B23=0, 0, IF(B23=1,1.3, IF(B23=2, 2.6, IF(B23=3, 4, "")))) -> 0
A24: Modelo Operativo | B24: 0 | C24: =IF(B24=0, 0, IF(B24=1,2, IF(B24=2, 4, ""))) -> 0
A25: Modelo Operativo | B25: 0 | C25: =IF(B25=0, 0, IF(B25=1,2, IF(B25=2, 4, ""))) -> 0
A26: Modelo Operativo | B26: 0 | C26: =IF(B26=0, 0, IF(B26=1,2, IF(B26=2, 4, ""))) -> 0
A27: Modelo Operativo | B27: 0 | C27: =IF(B27=0, 0, IF(B27=1,1.3, IF(B27=2, 2.6, IF(B27=3, 4, "")))) -> 0
A28: Modelo Operativo | B28: 0 | C28: =IF(B28=0, 0, IF(B28=1,1.3, IF(B28=2, 2.6, IF(B28=3, 4, "")))) -> 0
A29: Modelo Operativo | B29: 0 | C29: =IF(B29=0, 0, IF(B29=1,1.3, IF(B29=2, 2.6, IF(B29=3, 4, "")))) -> 0
C30: =IF(B30=0, 0, IF(B30=2,2.6, IF(B30=3, 4, ""))) -> 0
C31: =IF(B31=0, 0, IF(B31=1,1.3, IF(B31=2, 2.6, IF(B31=3, 4, "")))) -> 0
A33: {='Capacidades tecnológicas'!A3:A23} -> #VALUE! | B33: {='Capacidades tecnológicas'!D3:D23} -> #VALUE! | C33: =IF(B33=0, 0, IF(B33=1,2, IF(B33=2, 4, ""))) -> #VALUE!
C34: =IF(B34=0, 0, IF(B34=1,1.3, IF(B34=2, 2.6, IF(B34=3, 4, "")))) -> 0
C35: =IF(B35=0, 0, IF(B35=1,1.3, IF(B35=2, 2.6, IF(B35=3, 4, "")))) -> 0
C36: =IF(B36=0, 0, IF(B36=1,1.3, IF(B36=2, 2.6, IF(B36=3, 4, "")))) -> 0
C37: =IF(B37=0, 0, IF(B37=1,1.3, IF(B37=2, 2.6, IF(B37=3, 4, "")))) -> 0
C38: =IF(B38=0, 0, IF(B38=1,1.3, IF(B38=2, 2.6, IF(B38=3, 4, "")))) -> 0
C39: =IF(B39=0, 0, IF(B39=1,2, IF(B39=2, 4, ""))) -> 0
C40: =IF(B40=0, 0, IF(B40=1,2, IF(B40=2, 4, ""))) -> 0
C41: =IF(B41=0, 0, IF(B41=1, 4, "")) -> 0
C42: =IF(B42=0, 0, IF(B42=1,1.3, IF(B42=2, 2.6, IF(B42=3, 4, "")))) -> 0
...

Sheet Capacidades tecnológicas
A2: Componente Framework | B2: Categoría | C2: Requerimiento | D2: Evaluación | E2: Comentarios | F2: Métricas
A3: Capacidades Tecnológicas | B3: Tecnología e Infraestructura | C3: ¿Se cuenta con experiencia en el desarrollo de APIs? | F3: 0: No se cuenta con experiencia en el desarrollo de APIs 1: Se esta trabajando en el desarrollo de las capacidades de APIs 2. Se cuenta con experiencia el desarrollo de APIs
A4: Capacidades Tecnológicas | B4: Tecnología e Infraestructura | C4: ¿Cómo se define esta experiencia en el desarrollo de APIs? | F4: 0: Se ha estado trabajando en el desarrollo de microservicios para eficiencias en los procesos internos 1: Se cuenta con APIs privadas 2. Se cuenta con APIs que han sido expuestas a terceros
A5: Capacidades Tecnológicas | B5: Tecnología e Infraestructura | C5: ¿El core bancario está habilitado para la exposición de APIs hacia terceros? | F5: 0: No se ha realizado algún diagnóstico o el core no está habilitado 1: Existen retos en el core, pero se están desarrollando capacidades para el despliegue de microservicios 2: Se tiene un plan de migración para actualizar el core bancario 3: El core bancario está habilitado para la exposión de APIs hacia terceros
A6: Capacidades Tecnológicas | B6: Tecnología e Infraestructura | C6: ¿Existen controles de monitoreo definido para la operación con los TPPs? | F6: 0: No existe o no se tiene 1: Se están desarrollando modelos de monitoreo específicos para la actividad de los TPPs 2: Se cuenta con modelos de monitoreo para los TPPs 3: Los modelos de monitoreo para los TPPs consideran el uso de nuevas tecnologías
A7: Capacidades Tecnológicas | B7: Tecnología e Infraestructura | C7: ¿La organización ha implementado una plataforma de gestión de APIs (por ejemplo Mulesoft, WSO2, IBM RedHat)? | F7: 0: No existe o no se tiene plataforma de gestión de APIs 1: Se han implementado funcionalidades básicas que ofrecen los proveedores de Nube 2: Se está evaluando la adquisición de una plataforma de APIs 3: Se ha implementado una plataforma de gestión de APIs
A8: Capacidades Tecnológicas | B8: Tecnología e Infraestructura | C8: ¿El Portal de Desarrolladores proporciona diferentes funcionalidades que permiten un auto-servicio de los TPPs, como el auto-registro en el portal, la obtención de las llaves de prueba para las APIs disponibles, recursos de documentación, proceso de onboarding para paso a producción, facturación, entre otras? | F8: 0: No existe o no se tiene portal de desarrolladores 1: El portal de desarrolladores cuenta con funcionalidades básicas que es el registro de usuarios y obtención de llaves 2: Se está trabajando en un plan para agregar funcionalidades al portal de desarrolladores 3: Se cuenta con diferentes funcionaliades en el portal de desarrolladores para el servicio y atención de los TPPs
A9: Capacidades Tecnológicas | B9: Tecnología e Infraestructura | C9: ¿La arquitectura tecnológica está habilitada para el desarrollo y exposición de APIs? | F9: 0: No se encuentra habilitada 1: Se está habilitando a través del desarrollo de diferentes microservicios y/o APIs internas 2: Existe una categorización de diferentes servicios que proporcionan servicios comunes a las APIs
A10: Modelo Operativo | B10: Modelo de Desarrollo | C10: ¿Para la implementación de la estrategia de APIs se utiliza el enfoque API-first? | F10: 0: No se han desarrollado productos APIs que se hayan expuesto para consumo de terceros 1: Se han desarrollado APIs, pero se desconoce el enfoque API-first 2: La organización está en proceso de adoptar el enfoque API-first 3: Se utiliza el modelo API-first
A11: Modelo Operativo | B11: Modelo de Desarrollo | C11: ¿Se tiene un modelo de desarrollo que considera el Ciclo de Vida completo de las Apis (dieño, prueba, implementación y gestión)? | F11: 0: No se cuenta con algún modelo de desarrollo especifico para APIs porque no se han desarrollado productos 1: Para el desarrollo de las APIs se utilizan los modelos de desarrollo que la organización ha definido 2: Se utiliza un modelo de desarrollo que considera el ciclo de vida de las APIs
A12: Capacidades Tecnológicas | B12: Modelo de Desarrollo | C12: ¿Se siguen mejores prácticas para el desarrollo de las APIs, como marcos de referencia de otros países o espeficiaciones internacionales como Open API 3.0 modelo FAPI (financial-grade API), REST (representational state transfer), estándares de encripción? | F12: 0: No existe o no se tiene 1: Las APIs se desarrollan tomando parcialmente referencia a mejores prácticas 2: Las APIs se desarrollan con base a mejores prácticas
A13: Capacidades Tecnológicas | B13: Modelo de Desarrollo | C13: ¿Existen perfiles definidos para las APIs que diferencian las operaciones que realiza la API cuando es de sólo lectura (R) y para las operacione que realiza la API cuando es de lectura y escritura (R and W)? | F13: 0: No existen perfiles definidos las APIS se desarrollan siguiente un sólo perfil 1: Se tienen perfiles definidos para sólo lectura y para lectura y escritura
A14: Capacidades Tecnológicas | B14: Modelo de Desarrollo | C14: ¿Se cuenta con documentación y diferentes recursos, como SDKs (kits de desarrollo de software), widgets y/o colecciones de postman para el uso de las APIs? | F14: 0: No existe una documentación formal de las APIs 1: Existe documentación pero es para uso interno, para los TPPs se brinda apoyo técnico caso por caso 2: Existe documentación que se desarrolla para diferentes audiencias tanto internas como externas 3. Existe documentación y además se cuenta con otros recursos para facilitar el entendimiento y uso de la API
... A23: Capacidades Tecnológicas | B23: Seguridad | C23: ¿Existen límites establecidos para las solicitudes de llamado a las APIs basados en rangos predeterminados (cuota, spike arrest, throtling)? | F23: 0: No existe o no se tiene 1: Se reconoce la importancia de establecer límites para los picos de tráfico pero no se desconoce como hacerlo o no se tienen parámetros de referencia 2: Se tienen límites establecidos para los picos de tráfico

Sheet Legal y Cumplimiento 
A2: Componente Framework | B2: Categoría | C2: Requerimiento | D2: Evaluación | E2: Comentarios | F2: Métricas
A3: Regulación y Cumplimiento | B3: Cumplimiento Regulatorio | C3: ¿La entidad conoce el marco regulatorio de Open Finance desarrollado en el decreto 1297 y en la circular 004? | F3: 0: No lo conocemos/Sabemos que se publicó pero no lo hemos mirado 1: Lo conocemos, pero no lo entendemos, queremos saber qué oportunidades existen para la entidad 2: Lo conocemos y se están desarrollando diálogos a nivel estrategia para prepar a la entidad en este nuevo modelo de negocio 3: Si lo conocemos, estamos en la definición/implementación de la estrategia de APIs y participamos de los grupos de trabajo que ha organizado la SFC
A4: Regulación y Cumplimiento | B4: Cumplimiento Regulatorio | C4: ¿Cuáles son los principales retos que la Entidad ha identificado para abordar la normativa de Open Finance? | F4: 0: Se desconoce 1: Capacidades técnicas 2: Capacidades de presupuesto para invertir en infraestructura que le de servicio a las APIs 3: Planeación estratégica y soporte de la alta gerencia 4: Todas las anteriores
A5: Regulación y Cumplimiento | B5: Consentimiento del Cliente | C5: Respecto al proceso de consentimiento del cliente para acceder a sus datos, ¿se tiene el siguiente grado de avance? | F5: 0: No se tiene algún proceso definido 1: Es un proceso sencillo donde al cliente se le muestra una pantalla para que acepte términos y condiciones en donde se integra lo relativo al consentimiento del cliente 2: Se está investigando como implementar un proceso de consentimiento y/o se está a la espera de que la SFC lo defina 3: Se tiene un proceso de consentimiento basado en mejores prácticas internacionales
A6: Regulación y Cumplimiento | B6: Consentimiento del Cliente | C6: ¿El proceso de consentimiento del cliente considera el alta, la actualización, la revocación y la consulta? | F6: 0: No se tiene algún proceso definido 1: El proceso de consentimiento solo considera el alta, cuando el cliente da click en aceptar en términos y condiciones 2: El proceso de consentimiento considera algunas funcionalidades 3: El proceso de consentimiento considera todas las funcionalidades necesarias para gestionar el proceso
A7: Regulación y Cumplimiento | B7: Consentimiento del Cliente | C7: ¿El Consentimiento del Cliente tiene una vigencia determinada? | F7: 0: No se tiene algún proceso definido 1: El proceso no tiene una vigencia definida 2: El proceso tiene una vigencia definida, una vez que caducó el usuario necesita volver a darlo de alta 3: El proceso tiene una vigencia definida, el usuario la puede modificar en cualquier momento
A8: Regulación y Cumplimiento | B8: Marco legal | C8: ¿El área legal colabora con las áreas de producto y tecnología para el desarrollo de los casos de uso? | F8: 0: No aplica porque no hay casos de uso desplegados 1: Los líderes de las iniciativas de Open Finance, de contar con ellos, están coordinando los grupos de trabajo 2: El área legal apoya a las áreas de producto y tecnología sin que exista algún proceso definido 3: El área legal apoya a las áreas de producto y tecnología y existen procesos documentados que estandarizan dicho apoyo
A9: Regulación y Cumplimiento | B9: Marco legal | C9: ¿El área legal ha definido los términos y condiciones para el uso de las APIs por parte de TPPs? | F9: 0: No se han definido porque no hay casos de uso desplegados 1: Se han implementado casos de uso pero no se han definido términos y condiciones específicos, se utilizan lo que aplican para el uso de medios o canales electrónicos 2: Los términos y condiciones están en desarrollo 3: Se tienen implementados los términos y condiciones
A10: Regulación y Cumplimiento | B10: Marco legal | C10: ¿Se tienen definidos contratos marco para la formalización de las alianzas con TPPs? | F10: 0: No se tiene o no aplica porque no se colabora con algún TPP 1: Se tienen implementados contratos pero se han desarrollado caso por caso 2: El desarrollo de un contrato marco, está en proceso de desarrollo 3: Se cuenta con contratos marco
A11: Regulación y Cumplimiento | B11: Marco legal | C11: ¿Cuál de las siguientes opciones describe mejor el alcance del contrato definido para la colaboración con los TPPs ? | F11: 0: No aplica 1: Define las características generales de la relación de negocio de la entidad con el TPP en relación al consumo de las APIs 2: Se han identificado areas de oportunidad sobre el contrato/los contratos que se han desarrollado con los TPPs y se estarán actualizando 3: El contrato define las características generales de la relación de negocio de la entidad con el TPP y en adición se consideran temas del tratamiento de marca, relaciones con cuartas partes, responsabilidades específicas en materia de riesgo operacional y tecnológico, reportes, actividades que pueden impactar en la reputación de la entidad, entre otras cosas

Sheet Resultados madurez
V23: *En el primer módulo revisaremos los resultados en detalle

Sheet Glosario
A6: Glosario
A7: Termino | B7: Definición | C7: Referencia
A8: API | B8: API significa “interfaz de programación de aplicaciones”. En el contexto de las API, estas funcionan como conectores entre dos tipos de sistemas distintos y facilitan el intercambio de datos entre ellos el cual se realiza de una manera estandarizada y segura. | C8: https://aws.amazon.com/es/what-is/api/#:~:text=API%20significa%20%E2%80%9Cinterfaz%20de%20programaci%C3%B3n,de%20servicio%20entre%20dos%20aplicaciones.
A9: API-first | B9: API-first es una estrategia de APIs que da prioridad al diseño de la API antes de comenzar con las actividades de desarrollo y programación. La ventaja es que se tienen ciclos de diseño antes del código lo que permite generar eficiencias en los equipos de trabajo y busca que la API sea visualizada como un producto en lugar de un segmento de código. | C9: https://www.postman.com/api-first/#:~:text=API%20design%2Dfirst%20is%20a,create%20a%20better%20developer%20experience.
A10: Banking as a service | B10: Banking as a Service (o BaaS por sus siglas en inglés) es un modelo integral que permite a las fintechs, neobancos y otros terceros, conectarse directamente con los servicios que ofrece un banco a través de APIs para que estos terceros puedan ofrecer servicios financieros directamente a sus clientes | C10: https://blog.fintechamericas.co/banking-as-a-service-una-revoluci%C3%B3n-para-las-instituciones-financieras
A11: Caso de uso | B11: Un caso de uso es la definición estratégica que hace la organización para APIficar un producto o servicio. El caso de uso considera además de los elementos técnicos, como se debe de diseñar el producto API, cómo se debe de distribuir y como se debe de monetizar. | C11: https://www.wrike.com/blog/what-is-a-use-case/
A12: Consentimiento del Cliente | B12: Consentimiento del cliente se refiere al proceso de obtención y gestión del consentimiento de los consumidores de manera expresa para la recopilación, uso e intercambio de sus datos financieros. | C12: https://cloudentity.com/developers/basics/openfinance/consent-management/
A13: Cuota | B13: Cuota se refiere a una directiva para configurar el número de mensajes de solicitud que un servidor de API permite durante un periodo de tiempo, como un minuto, una hora, un día, una semana o un mes. Puede establecer que la cuota sea la misma para todas las aplicaciones que accedan al servidor de API, o bien puede establecerla en función de diferentes criterios. | C13: https://docs.apigee.com/api-platform/reference/policies/quota-policy
A14: Developer journey | B14: El 'Developer Journey' es el diseño de experiencia de un desarrollador/programador con el objetivo de facilitarle el consumo de la API que la organización haya puesto a su disposición. El 'Developer Journey' también considera el manejo de las relaciones con los desarrolladores, es decir identificar sus necesidades, experiencia de uso y areas de mejora de la API con el objetivo de crear un diálogo continuo que escuche la voz del desarrollador y mantenga productos API atractivos para el mercado. | C14: https://www.devrel.agency/developerjourney
A15: Financial-grade API | B15: Financial-Grade API (FAPI) es un estandar especializado para API definida por la OpenID Foundation que busca agregar lineamientos de seguridad reforzados para el intercambio de información financiera. Amplia los marcos de referencia y uso común OAuth 2.0 y OpenID Connect (OIDC), | C15: https://cloudentity.com/developers/basics/fapi/
A16: Long TPP | B16: Son los Third Party Providers (TPP) de gran tamaño y que resultan de manera inicial los aliados estratégicos para que una entidad financiera comience el despliegue de los programas BaaS. Como ejemplos se pueden encontrar compañías de retail, telecomunicaciones, energía, entre otros.
A17: Oauth 2.0 | B17: OAuth 2.0, que significa “Open Authorization” (autorización abierta), es un estándar diseñado para permitir que un sitio web o una aplicación accedan a recursos alojados por otras aplicaciones web en nombre de un usuario. | C17: https://auth0.com/es/intro-to-iam/what-is-oauth-2
A18: Open Finance | B18: Open Finance es el término que se refiere al principio de intercambio de información financiera no solo de bancos, sino de cualquier entidad financiera. De esta manera, los tipos de información que se pueden intercambiar pueden provenir de bancos y otras entidades como cooperativas, cajas, aseguradoras, compañías de financiamiento, compañías de intermediación bursátil, etc. | C18: https://blog.finerioconnect.com/que-es-open-finance/
A19: Plataforma de Gestión de APIs | B19: Es un producto de software que soporta el despliegue de la estrategia de APIs de una organización. Entre las diferentes funciones que ofrece se encuentra el manejo del ciclo de vida de APIs (diseño, desarrollo, publicación, mantenimiento), la gestión de diferentes tipos de reportes, capacidades de seguridad de la información y monitoreo de las APIs. | C19: https://www.softwareag.com/en_corporate/resources/api/article/api-platform.html#:~:text=An%20API%20platform%20is%20a,What%20is%20an%20API%3F
A20: Portal de desarrolladores | B20: Un portal para desarrolladores de API es una página web que ofrece diferentes funcionalidades para que los desarrolladores puedan interactuar con la API. De manera esencial el Portal debe de contar con documentación y recursos que pemitan al programador conocer la API, asimismo el portal debe de propocionar la forma de conectar con la API. Otras funcionalidades que se pueden incorporar son el monitoreo, el acceso a los diferentes ambientes con el que cuente la API (prueba, preproducción, producción), estadísticas de uso entre otras. | C20: https://www.astera.com/es/type/blog/api-developer-portal/
A21: Postman | B21: Postman es una plataforma API para construir y utilizar APIs. Postman puede almacenar y gestionar especificaciones de API, documentación, recetas de flujos de trabajo, casos y resultados de pruebas, métricas y todo lo relacionado con las API. | C21: https://www.postman.com/
A22: Rest | B22: La transferencia de estado representacional (REST) es una arquitectura de software que impone condiciones sobre cómo debe funcionar una API. En un principio, REST se creó como una guía para administrar la comunicación en una red compleja como Internet. Es posible utilizar una arquitectura basada en REST para admitir comunicaciones confiables y de alto rendimiento a escala. Puede implementarla y modificarla fácilmente, lo que brinda visibilidad y portabilidad entre plataformas a cualquier sistema de API. | C22: https://aws.amazon.com/es/what-is/restful-api/#:~:text=La%20API%20RESTful%20es%20una,llevar%20a%20cabo%20varias%20tareas.
A23: Screen Scrapping / Web Scrapping | B23: Es un proceso mediante el que se recopila la información que se visualiza en una «pantalla» (por lo general, una página web) para extraerla y utilizarla en otro lugar. El screen scraping funciona a través de un programa o «bot» que obtiene acceso a la cuenta de un cliente y, automáticamente, capta los datos que se ven en la pantalla desde un segundo plano, sin que el cliente se encuentre presente. | C23: https://truelayer.com/es-es/blog/open-banking/que-es-el-screen-scraping/
A24: SDK (Software Development Kit) | B24: Un software development kit (SDK) o kit de desarrollo de software es un conjunto de herramientas de software y programas utilizados por los desarrolladores que facilita la creación de programas o aplicaciones. Una API puede ofrecer SDKs basados en determinados lenguajes para que los desarrolladores los ocupen y su ciclo de integración de la API sea más corto. | C24: https://blog.finerioconnect.com/que-es-un-sdk-y-para-que-sirve/
A25: Spike arrest | B25: Spike arrest se refiere a una directiva que protege contra los picos de tráfico. Esta directiva regula el número de solicitudes procesadas por un servidor de API protegiendo contra retrasos en el rendimiento de dicha API o protegiendo contra posibles ataques. | C25: https://docs.apigee.com/api-platform/reference/policies/spike-arrest-policy
A26: Tail TPP | B26: Son los Third Party Providers (TPP) pequeños y masivos con los que la organización puede colaborar para el despliegue de sus modelos BaaS. Un TPP Tail puede ser una fintech, una startup o compañías de mediano tamaño que quieran ofrecer servicios financieros.
A27: Third-Party provider (TPP) | B27: Los TPP son cualquier entidad que quiera conectarse con una entidad financiera para el consumo de las APIs que la entidad ofrezca. Pueden ser grandes compañías (Long TPP) o compañías medianas o pequeñas (Tail TPP). | C27: https://www.openbanking.org.uk/glossary/third-party-provider/#:~:text=(TPP),and%2For%20to%20initiate%20payments.
A28: Throtling | B28: El throttling de API es el proceso de limitar el número de solicitudes de API que un usuario puede realizar en un periodo determinado. | C28: https://www.tibco.com/reference-center/what-is-api-throttling#:~:text=API%20throttling%20is%20the%20process,click%20triggers%20an%20API%20call.
A29: Widget | B29: Un Widget es una aplicación que proporciona una interfase gráfica para el usuario (por ejemplo un formulario de login para que el cliente acceda a su portal bancario) en conjunto con la funcionalidad de una API. Es decir, el widget integra capacidades gráficas con las funcionalidades de una API | C29: https://www.techtarget.com/whatis/definition/widget
